


BEGIN:VCALENDAR
PRODID:-//Google Inc//Google Calendar 70.9054//EN
VERSION:2.0
CALSCALE:GREGORIAN
BEGIN:VEVENT
TRANSP:OPAQUE
X-APPLE-TRAVEL-ADVISORY-BEHAVIOR:AUTOMATIC
LOCATION:Online
DTSTART:20230524T130000Z
DTEND:20230524T143000Z
URL;VALUE=URI:https://ncj-nl.ont.stuurlui.dev/agenda/jgz-live-4-2/
SUMMARY:JGZ Live! #4
DTSTAMP:20260421T175626Z
UID:69e7ba4ae343c
END:VEVENT
END:VCALENDAR