


BEGIN:VCALENDAR
PRODID:-//Google Inc//Google Calendar 70.9054//EN
VERSION:2.0
CALSCALE:GREGORIAN
BEGIN:VEVENT
TRANSP:OPAQUE
X-APPLE-TRAVEL-ADVISORY-BEHAVIOR:AUTOMATIC
LOCATION:Online
DTSTART:20230523T100000Z
DTEND:20230523T110000Z
URL;VALUE=URI:https://ncj-nl.ont.stuurlui.dev/agenda/webinar-je-brein-de-baas/
SUMMARY:Webinar &#8216\;Je Brein de Baas?!&#8217\;
DTSTAMP:20260421T175625Z
UID:69e7ba4916fa9
END:VEVENT
END:VCALENDAR